BEGIN:VCALENDAR
VERSION:2.0
PRODID:-//Every Neighbor - ECPv6.15.17.1//NONSGML v1.0//EN
CALSCALE:GREGORIAN
METHOD:PUBLISH
X-WR-CALNAME:Every Neighbor
X-ORIGINAL-URL:https://everyneighbor.com
X-WR-CALDESC:Events for Every Neighbor
REFRESH-INTERVAL;VALUE=DURATION:PT1H
X-Robots-Tag:noindex
X-PUBLISHED-TTL:PT1H
BEGIN:VTIMEZONE
TZID:UTC
BEGIN:STANDARD
TZOFFSETFROM:+0000
TZOFFSETTO:+0000
TZNAME:UTC
DTSTART:20250101T000000
END:STANDARD
END:VTIMEZONE
BEGIN:VEVENT
DTSTART;TZID=UTC:20260424T180000
DTEND;TZID=UTC:20260424T200000
DTSTAMP:20260419T220921
CREATED:20260304T134922Z
LAST-MODIFIED:20260304T134922Z
UID:9638-1777053600-1777060800@everyneighbor.com
SUMMARY:Talk of the Town Fundraiser for Aphasia Center
DESCRIPTION:It’s a chocolate cocktail kind of night—so bring the fun!  Rock your best jeans with a touch of sparkle\, that little black dress with a “thriller” twist\, cocktail flair\, or MJ-inspired style.  Rhinestones\, sequins\, and moonwalk-ready moves encouraged!
URL:https://everyneighbor.com/event/talk-of-the-town-fundraiser-for-aphasia-center/
ATTACH;FMTTYPE=image/jpeg:https://everyneighbor.com/wp-content/uploads/2026/03/Aphasia-Center-Talk-of-the-Town-1024x1024-1.jpg
END:VEVENT
END:VCALENDAR